BEGIN:VCALENDAR
PRODID:-//AT Content Types//AT Event//EN
VERSION:2.0
METHOD:PUBLISH
BEGIN:VEVENT
DTSTAMP:20260422T203804Z
CREATED:20250903T120526Z
UID:ATEvent-6140dda178354ad9962f2811e0113558
LAST-MODIFIED:20251106T102807Z
SUMMARY:Dalgety Bay (and Aberdour)
DTSTART:20251217T140000Z
DTEND:20251217T200000Z
DESCRIPTION:Dalgety Parish Church\nRegent's Way\nDalgety Bay\nDunferml
 ine \nKY11 9UY
CLASS:PUBLIC
END:VEVENT
END:VCALENDAR
