BEGIN:VCALENDAR
PRODID:-//AT Content Types//AT Event//EN
VERSION:2.0
METHOD:PUBLISH
BEGIN:VEVENT
DTSTAMP:20260422T204011Z
CREATED:20250903T120526Z
UID:ATEvent-25a2da3332fa43d48ee5a3f495b47133
LAST-MODIFIED:20251106T102807Z
SUMMARY:Cramond
DTSTART:20251114T140000Z
DTEND:20251114T200000Z
DESCRIPTION:Cramond Kirk\nCramond Glebe Rd\, \nCramond\, \nEdinburgh \
 nEH4 6NS
CLASS:PUBLIC
END:VEVENT
END:VCALENDAR
