BEGIN:VCALENDAR
PRODID:-//AT Content Types//AT Event//EN
VERSION:2.0
METHOD:PUBLISH
BEGIN:VEVENT
DTSTAMP:20260422T203040Z
CREATED:20250903T120526Z
UID:ATEvent-7461c1b9263f4d8e873506f9af59823e
LAST-MODIFIED:20251106T102807Z
SUMMARY:Dechmont
DTSTART:20251104T140000Z
DTEND:20251104T200000Z
DESCRIPTION:Uphall Community Centre\nStrathbrock Place\nEH52 6BN
CLASS:PUBLIC
END:VEVENT
END:VCALENDAR
