BEGIN:VCALENDAR
PRODID:-//AT Content Types//AT Event//EN
VERSION:2.0
METHOD:PUBLISH
BEGIN:VEVENT
DTSTAMP:20260422T203126Z
CREATED:20250903T120526Z
UID:ATEvent-d02be6e0fdec47eb8a8b041ab8f3bced
LAST-MODIFIED:20251106T102807Z
SUMMARY:Dunfermline
DTSTART:20251117T140000Z
DTEND:20251117T200000Z
DESCRIPTION:Carnegie Conference Centre\nFife College\nCalaiswood Cresc
 ent\nDunfermline\nKY11 8SJ
CLASS:PUBLIC
END:VEVENT
END:VCALENDAR
