BEGIN:VCALENDAR
PRODID:-//AT Content Types//AT Event//EN
VERSION:2.0
METHOD:PUBLISH
BEGIN:VEVENT
DTSTAMP:20260422T203809Z
CREATED:20250903T120526Z
UID:ATEvent-89aa9ba10ab841b7baa832f904617715
LAST-MODIFIED:20251106T102807Z
SUMMARY:Elie and Earlsferry
DTSTART:20251118T143000Z
DTEND:20251118T200000Z
DESCRIPTION:Earlsferry Town Hall\n19-21 High Street\nKY9 1AF
CLASS:PUBLIC
END:VEVENT
END:VCALENDAR
