BEGIN:VCALENDAR
PRODID:-//AT Content Types//AT Event//EN
VERSION:2.0
METHOD:PUBLISH
BEGIN:VEVENT
DTSTAMP:20260422T203208Z
CREATED:20250903T120526Z
UID:ATEvent-43136c3faa924f6492b01f7067308db0
LAST-MODIFIED:20251106T102807Z
SUMMARY:Musselburgh
DTSTART:20251209T140000Z
DTEND:20251209T200000Z
DESCRIPTION:Musselburgh\nMusselburgh Rugby Club\nStoneyhill Farm Road\
 nEH21 6RN
CLASS:PUBLIC
END:VEVENT
END:VCALENDAR
