BEGIN:VCALENDAR
PRODID:-//AT Content Types//AT Event//EN
VERSION:2.0
METHOD:PUBLISH
BEGIN:VEVENT
DTSTAMP:20260422T203805Z
CREATED:20250903T125731Z
UID:ATEvent-ff9939c3b3f740c5a9a080701ad5baae
LAST-MODIFIED:20251106T102807Z
SUMMARY:Webinar
DTSTART:20251027T180000Z
DTEND:20251027T200000Z
DESCRIPTION:Webinar at this link (copy and paste into your browser):\n
 \nhttps://teams.microsoft.com/l/meetup-join/19%3ameeting_MjQ1ZWJkMWYtM
 mE5MS00MDQ2LThjNDQtNjBhYzY2NjBjMjA4%40thread.v2/0?context=%7b%22Tid%22
 %3a%229e5cbd8b-1d9a-4ae5-a38c-f8ebe160d097%22%2c%22Oid%22%3a%228dd8119
 7-4a39-4834-8ea8-3da138106cf5%22%7d
CLASS:PUBLIC
END:VEVENT
END:VCALENDAR
