BEGIN:VCALENDAR
PRODID:-//AT Content Types//AT Event//EN
VERSION:2.0
METHOD:PUBLISH
BEGIN:VEVENT
DTSTAMP:20260421T182411Z
CREATED:20220417T232806Z
UID:ATEvent-853af3a2a1b340a88d83b6d44e94a877
LAST-MODIFIED:20220719T195931Z
SUMMARY:ACP Open Day - Larkhill
DTSTART:20220629T090000Z
DTEND:20220629T130000Z
DESCRIPTION:An open day will be held at Horne Barracks\, Larkhill\, Wi
 ltshire\, SP4 8QE.\n\nThe intent of the visit is to introduce RPAS to 
 stakeholders and discuss the airspace requirements.\n\nIf you wish to 
 attend this open day please email 47RA-Project-LOVERIDGE@mod.gov.uk an
 d further details on the event will be sent out. This is limited to 60
  places and will be offered on a first-come first-served basis.
CLASS:PUBLIC
END:VEVENT
END:VCALENDAR
