BEGIN:VCALENDAR
PRODID:-//AT Content Types//AT Event//EN
VERSION:2.0
METHOD:PUBLISH
BEGIN:VEVENT
DTSTAMP:20260421T201245Z
CREATED:20220417T232806Z
UID:ATEvent-2f0cef364e8548adb59340ccbffa1fa5
LAST-MODIFIED:20220719T195931Z
SUMMARY:ACP Roadshow - Steeple Ashton Village Hall
DTSTART:20220617T120000Z
DTEND:20220617T160000Z
DESCRIPTION:An open day will be held at the Steeple Ashton Village Hal
 l\, Church Street\, Steeple Ashton\, Wiltshire\, BA14 6EW.\n\nPresenta
 tions will be given at 1300hrs and 1500hrs.\n\nLights refreshments wil
 l be provided.
CLASS:PUBLIC
END:VEVENT
END:VCALENDAR
