BEGIN:VCALENDAR
PRODID:-//AT Content Types//AT Event//EN
VERSION:2.0
METHOD:PUBLISH
BEGIN:VEVENT
DTSTAMP:20260421T182726Z
CREATED:20220417T232806Z
UID:ATEvent-fd751740a1704f90a8d2a4ba8eb0bf83
LAST-MODIFIED:20220719T195931Z
SUMMARY:Virtual meeting
DTSTART:20220615T130000Z
DTEND:20220615T143000Z
DESCRIPTION:A virtual meeting will be held on Microsoft Teams.\n\nA Mi
 crosoft Teams link will be published here for stakeholders to join bef
 ore the meeting.
CLASS:PUBLIC
END:VEVENT
END:VCALENDAR
