BEGIN:VCALENDAR
PRODID:-//AT Content Types//AT Event//EN
VERSION:2.0
METHOD:PUBLISH
BEGIN:VEVENT
DTSTAMP:20260421T182110Z
CREATED:20220417T232806Z
UID:ATEvent-8f5492ac350a4e849ab5f4b10a8cfc1f
LAST-MODIFIED:20220719T195931Z
SUMMARY:Virtual meeting
DTSTART:20220721T173000Z
DTEND:20220721T190000Z
DESCRIPTION:A virtual meeting will be held on Microsoft Teams.\n\nA Mi
 crosoft Teams link will be published here for stakeholders to join bef
 ore the meeting.
CLASS:PUBLIC
END:VEVENT
END:VCALENDAR
